BEGIN:VCALENDAR
VERSION:2.0
PRODID:spatie/icalendar-generator
DESCRIPTION:Events from Hwy 331 Walton County USA
X-WR-CALDESC:Events from Hwy 331 Walton County USA
REFRESH-INTERVAL;VALUE=DURATION:PT1440M
X-PUBLISHED-TTL:PT1440M
BEGIN:VTIMEZONE
TZID:Etc/GMT+0
BEGIN:STANDARD
DTSTART:20250325T170000Z
TZOFFSETFROM:+0000
TZOFFSETTO:+0000
END:STANDARD
END:VTIMEZONE
BEGIN:VTIMEZONE
TZID:UTC
BEGIN:STANDARD
DTSTART:20250723T231951Z
TZOFFSETFROM:+0000
TZOFFSETTO:+0000
END:STANDARD
END:VTIMEZONE
BEGIN:VEVENT
UID:1143-916
DTSTAMP:20260419T231951Z
SUMMARY:Sunbright Inn Open House: Christmas Extravaganza
LOCATION:Sunbright Inn 30 Live Oak Avenue West  DeFuniak Springs  Florida 3
 2435
ORGANIZER;CN=Kerri Parker:MAILTO:info@hwy331.com
DTSTART;TZID=Etc/GMT+0:20251220T170000
DTEND;TZID=Etc/GMT+0:20251220T200000
X-ALT-DESC;FMTTYPE=TEXT/HTML:Twinkling lights\, holiday finery\, and a dash
  of good cheer await at the Sunbright Inn. This lovingly restored historic
  home is opening its doors for a Christmas Extravaganza where every room f
 eels dressed for the occasion. Wander through festive spaces\, sip somethi
 ng warm\, nibble on sweet treats\, and strike a pose in one of the&amp;hellip\
 ;
CATEGORIES:General
URL;VALUE=URI:https://hwy331.com/mc-events/sunbright-inn-open-house-christm
 as-extravaganza/
METHOD:PUBLISH
END:VEVENT
END:VCALENDAR