BEGIN:VCALENDAR
VERSION:2.0
PRODID:spatie/icalendar-generator
DESCRIPTION:Events from Hwy 331 Walton County USA
X-WR-CALDESC:Events from Hwy 331 Walton County USA
REFRESH-INTERVAL;VALUE=DURATION:PT1440M
X-PUBLISHED-TTL:PT1440M
BEGIN:VTIMEZONE
TZID:Etc/GMT+0
BEGIN:STANDARD
DTSTART:20230619T173000Z
TZOFFSETFROM:+0000
TZOFFSETTO:+0000
END:STANDARD
END:VTIMEZONE
BEGIN:VTIMEZONE
TZID:UTC
BEGIN:STANDARD
DTSTART:20250724T085151Z
TZOFFSETFROM:+0000
TZOFFSETTO:+0000
END:STANDARD
END:VTIMEZONE
BEGIN:VEVENT
UID:209-189
DTSTAMP:20260420T085151Z
SUMMARY:Tavern Trivia Night
LOCATION:
ORGANIZER;CN=Kerri Parker:MAILTO:info@hwy331.com
DTSTART;TZID=Etc/GMT+0:20240315T173000
DTEND;TZID=Etc/GMT+0:20240315T183000
X-ALT-DESC;FMTTYPE=TEXT/HTML:Join us for our Opening Ceremony Thursday nigh
 t only (5:30pm) then stay for some adult beverages and trivia in our taver
 n Thurs\, Fri\, and Sat. Prizes for top finishers. Tavern 3-Day Passport -
  $95 unlimited beer and wine Tavern 1-Day Passport - $35 unlimited beer an
 d wine Use code WALTON200 for early bird discount Get&amp;hellip\;
CATEGORIES:General
URL;VALUE=URI:https://hwy331.com/mc-events/tavern-trivia-night-2/
METHOD:PUBLISH
END:VEVENT
END:VCALENDAR