BEGIN:VCALENDAR
VERSION:2.0
PRODID:spatie/icalendar-generator
DESCRIPTION:Events from Hwy 331 Walton County USA
X-WR-CALDESC:Events from Hwy 331 Walton County USA
REFRESH-INTERVAL;VALUE=DURATION:PT1440M
X-PUBLISHED-TTL:PT1440M
BEGIN:VTIMEZONE
TZID:Etc/GMT+0
BEGIN:STANDARD
DTSTART:20240903T180000Z
TZOFFSETFROM:+0000
TZOFFSETTO:+0000
END:STANDARD
END:VTIMEZONE
BEGIN:VTIMEZONE
TZID:UTC
BEGIN:STANDARD
DTSTART:20250724T085212Z
TZOFFSETFROM:+0000
TZOFFSETTO:+0000
END:STANDARD
END:VTIMEZONE
BEGIN:VEVENT
UID:733-553
DTSTAMP:20260420T085212Z
SUMMARY:Sweet Southern Comfort Live Music
LOCATION:Sweet Southern Comfort 756 Baldwin Avenue  DeFuniak Springs Florid
 a 32435
ORGANIZER;CN=Kerri Parker:MAILTO:info@hwy331.com
DTSTART;TZID=Etc/GMT+0:20250531T180000
DTEND;TZID=Etc/GMT+0:20250531T210000
X-ALT-DESC;FMTTYPE=TEXT/HTML:Every Saturday from 6-9 pm.  Incredible music
 ians in the intimate space of Sweet Southern Comfort. Full bar\, great foo
 d!
CATEGORIES:General
URL;VALUE=URI:https://hwy331.com/mc-events/sweet-southern-comfort-live-musi
 c-4/
METHOD:PUBLISH
END:VEVENT
END:VCALENDAR