BEGIN:VCALENDAR
VERSION:2.0
PRODID:spatie/icalendar-generator
DESCRIPTION:Events from Hwy 331 Walton County USA
X-WR-CALDESC:Events from Hwy 331 Walton County USA
REFRESH-INTERVAL;VALUE=DURATION:PT1440M
X-PUBLISHED-TTL:PT1440M
BEGIN:VTIMEZONE
TZID:Etc/GMT+0
BEGIN:STANDARD
DTSTART:20250325T150000Z
TZOFFSETFROM:+0000
TZOFFSETTO:+0000
END:STANDARD
END:VTIMEZONE
BEGIN:VTIMEZONE
TZID:UTC
BEGIN:STANDARD
DTSTART:20250723T231735Z
TZOFFSETFROM:+0000
TZOFFSETTO:+0000
END:STANDARD
END:VTIMEZONE
BEGIN:VEVENT
UID:992-794
DTSTAMP:20260419T231735Z
SUMMARY:Mistletoe Market in Historic DeFuniak Springs
LOCATION:Baldwin Avenue\, Defuniak Springs 694 Baldwin Avenue Suite 4 Defun
 iak Springs FL 32435
ORGANIZER;CN=Kerri Parker:MAILTO:info@hwy331.com
DTSTART;TZID=Etc/GMT+0:20251220T150000
DTEND;TZID=Etc/GMT+0:20251220T200000
X-ALT-DESC;FMTTYPE=TEXT/HTML:Just across the tracks from the glow of Christ
 mas Reflections\, historic downtown DeFuniak Springs comes alive with the 
 sights\, sounds\, and sparkle of Mistletoe Market. Stroll through this ope
 n-air holiday fair filled with local vendors\, seasonal treats\, and cheer
 ful finds\, all set against the backdrop of twinkling lights and small-tow
 n charm. Snow drifts down on&amp;hellip\;
CATEGORIES:General
URL;VALUE=URI:https://hwy331.com/mc-events/mistletoe-market-in-historic-def
 uniak-springs/
METHOD:PUBLISH
END:VEVENT
END:VCALENDAR