BEGIN:VCALENDAR
VERSION:2.0
PRODID:spatie/icalendar-generator
DESCRIPTION:Events from Hwy 331 Walton County USA
X-WR-CALDESC:Events from Hwy 331 Walton County USA
REFRESH-INTERVAL;VALUE=DURATION:PT1440M
X-PUBLISHED-TTL:PT1440M
BEGIN:VTIMEZONE
TZID:Etc/GMT+0
BEGIN:STANDARD
DTSTART:20250325T170000Z
TZOFFSETFROM:+0000
TZOFFSETTO:+0000
END:STANDARD
END:VTIMEZONE
BEGIN:VTIMEZONE
TZID:UTC
BEGIN:STANDARD
DTSTART:20250723T212831Z
TZOFFSETFROM:+0000
TZOFFSETTO:+0000
END:STANDARD
END:VTIMEZONE
BEGIN:VEVENT
UID:1144-917
DTSTAMP:20260419T212831Z
SUMMARY:Horse Carriage Rides at Christmas Reflections
LOCATION:
ORGANIZER;CN=Kerri Parker:MAILTO:info@hwy331.com
DTSTART;TZID=Etc/GMT+0:20251220T170000
DTEND;TZID=Etc/GMT+0:20251220T180000
X-ALT-DESC;FMTTYPE=TEXT/HTML:There’s no better way to experience Christma
 s Reflections than from the gentle sway of a horse-drawn carriage. This be
 loved holiday tradition offers visitors a cozy\, old-fashioned ride around
  Lake DeFuniak\, where twinkling lights and historic homes shimmer in true
  seasonal splendor. Whether you reserve a private carriage for an intimate
  evening or hop aboard a&amp;hellip\;
CATEGORIES:General
URL;VALUE=URI:https://hwy331.com/mc-events/horse-carriage-rides-at-christma
 s-reflections/
METHOD:PUBLISH
END:VEVENT
END:VCALENDAR