BEGIN:VCALENDAR
VERSION:2.0
PRODID:spatie/icalendar-generator
DESCRIPTION:Events from Hwy 331 Walton County USA
X-WR-CALDESC:Events from Hwy 331 Walton County USA
REFRESH-INTERVAL;VALUE=DURATION:PT1440M
X-PUBLISHED-TTL:PT1440M
BEGIN:VTIMEZONE
TZID:Etc/GMT+0
BEGIN:STANDARD
DTSTART:20250805T100000Z
TZOFFSETFROM:+0000
TZOFFSETTO:+0000
END:STANDARD
END:VTIMEZONE
BEGIN:VTIMEZONE
TZID:UTC
BEGIN:STANDARD
DTSTART:20250724T102805Z
TZOFFSETFROM:+0000
TZOFFSETTO:+0000
END:STANDARD
END:VTIMEZONE
BEGIN:VEVENT
UID:1327-1057
DTSTAMP:20260420T102805Z
SUMMARY:ArtsQuest Festival
LOCATION:Grand Boulevard 525 Grand Blvd  Miramar beach FL 32550
ORGANIZER;CN=Kerri Parker:MAILTO:info@hwy331.com
DTSTART;TZID=Etc/GMT+0:20260502T100000
DTEND;TZID=Etc/GMT+0:20260502T190000
X-ALT-DESC;FMTTYPE=TEXT/HTML:Celebrating 38 years of ArtsQuest Fine Arts Fe
 stival! Spend the weekend exploring incredible art from 100+ juried artist
 s from across the county\, live music\, demos\, kids activities\, and so m
 uch more! Sat\, May 2 from 10.a.m - 7p.m. &amp;amp\; Sun\, May 3 from 10a.m. -
  5p.m. Grand Boulevard Town Center Learn more at CulturalArtsAlliance.com/
 arts-quest
CATEGORIES:General
URL;VALUE=URI:https://hwy331.com/mc-events/artsquest-festival/
METHOD:PUBLISH
END:VEVENT
END:VCALENDAR