BEGIN:VCALENDAR
VERSION:2.0
PRODID:spatie/icalendar-generator
DESCRIPTION:Events from Hwy 331 Walton County USA
X-WR-CALDESC:Events from Hwy 331 Walton County USA
REFRESH-INTERVAL;VALUE=DURATION:PT1440M
X-PUBLISHED-TTL:PT1440M
BEGIN:VTIMEZONE
TZID:Etc/GMT+0
BEGIN:STANDARD
DTSTART:20250730T140000Z
TZOFFSETFROM:+0000
TZOFFSETTO:+0000
END:STANDARD
END:VTIMEZONE
BEGIN:VTIMEZONE
TZID:UTC
BEGIN:STANDARD
DTSTART:20250724T044857Z
TZOFFSETFROM:+0000
TZOFFSETTO:+0000
END:STANDARD
END:VTIMEZONE
BEGIN:VEVENT
UID:1350-1080
DTSTAMP:20260420T044857Z
SUMMARY:Annie Jr. at Chautauqua Theater
LOCATION:Florida Chautauqua Theater 840 Baldwin Ave  Defuniak Springs FL 32
 435
ORGANIZER;CN=Kerri Parker:MAILTO:info@hwy331.com
DTSTART;TZID=Etc/GMT+0:20260426T140000
DTEND;TZID=Etc/GMT+0:20260426T153000
X-ALT-DESC;FMTTYPE=TEXT/HTML:Two limited performances of Annie Jr. are set 
 for April 25 at 7 p.m. and April 26 at 2 p.m.\, offering a fun\, feel-good
  experience for all ages. Tickets are available at fcweb.org\, with procee
 ds supporting continued theater programming and future productions.
CATEGORIES:General
URL;VALUE=URI:https://hwy331.com/mc-events/annie-jr-at-chautauqua-theater-2
 /
METHOD:PUBLISH
END:VEVENT
END:VCALENDAR