BEGIN:VCALENDAR
VERSION:2.0
PRODID:spatie/icalendar-generator
DESCRIPTION:Events from Hwy 331 Walton County USA
X-WR-CALDESC:Events from Hwy 331 Walton County USA
REFRESH-INTERVAL;VALUE=DURATION:PT1440M
X-PUBLISHED-TTL:PT1440M
BEGIN:VTIMEZONE
TZID:Etc/GMT+0
BEGIN:STANDARD
DTSTART:20250730T120000Z
TZOFFSETFROM:+0000
TZOFFSETTO:+0000
END:STANDARD
END:VTIMEZONE
BEGIN:VTIMEZONE
TZID:UTC
BEGIN:STANDARD
DTSTART:20250724T044623Z
TZOFFSETFROM:+0000
TZOFFSETTO:+0000
END:STANDARD
END:VTIMEZONE
BEGIN:VEVENT
UID:1351-1081
DTSTAMP:20260420T044623Z
SUMMARY:Sunday Market at Last Stop
LOCATION:The Last Stop Brew Vault 630 Baldwin Avenue  Defuniak Springs  324
 35
ORGANIZER;CN=Kerri Parker:MAILTO:info@hwy331.com
DTSTART;TZID=Etc/GMT+0:20260426T120000
DTEND;TZID=Etc/GMT+0:20260426T160000
X-ALT-DESC;FMTTYPE=TEXT/HTML:Sunday afternoons get a creative twist at the 
 Maker’s Market at Last Stop Brew Vault. From 12–4 p.m.\, guests can br
 owse a curated lineup of local makers\, artists\, and small businesses whi
 le enjoying a relaxed\, social atmosphere. The event pairs shopping with s
 ips\, featuring bottomless mimosas from 12–3 p.m. and Happy Hour special
 s from 3–6&amp;hellip\;
CATEGORIES:General
URL;VALUE=URI:https://hwy331.com/mc-events/sunday-market-at-last-stop/
METHOD:PUBLISH
END:VEVENT
END:VCALENDAR