BEGIN:VCALENDAR
VERSION:2.0
PRODID:spatie/icalendar-generator
DESCRIPTION:Events from Hwy 331 Walton County USA
X-WR-CALDESC:Events from Hwy 331 Walton County USA
REFRESH-INTERVAL;VALUE=DURATION:PT1440M
X-PUBLISHED-TTL:PT1440M
BEGIN:VTIMEZONE
TZID:Etc/GMT+0
BEGIN:STANDARD
DTSTART:20240312T100000Z
TZOFFSETFROM:+0000
TZOFFSETTO:+0000
END:STANDARD
END:VTIMEZONE
BEGIN:VTIMEZONE
TZID:UTC
BEGIN:STANDARD
DTSTART:20250723T231705Z
TZOFFSETFROM:+0000
TZOFFSETTO:+0000
END:STANDARD
END:VTIMEZONE
BEGIN:VEVENT
UID:520-386
DTSTAMP:20260419T231705Z
SUMMARY:Christmas Tour of Homes
LOCATION:DeFuniak Springs Visitors Bureau   1162 Circle Drive  DeFuniak Spr
 ings Florida 32435
ORGANIZER;CN=Kerri Parker:MAILTO:info@hwy331.com
DTSTART;TZID=Etc/GMT+0:20241207T100000
DTEND;TZID=Etc/GMT+0:20241207T170000
X-ALT-DESC;FMTTYPE=TEXT/HTML:Join us on Saturday\, December 7\, 2024\, from
  10 AM to 5 PM\, for the annual Christmas Tour of Homes hosted by St. Agat
 ha’s. This year’s tour offers a unique opportunity to explore 8-10 bea
 utifully decorated homes in the historic district\, including the charming
  Sun Bright Inn. All proceeds from the $25 entry fee will&amp;hellip\;
CATEGORIES:General
URL;VALUE=URI:https://hwy331.com/mc-events/christmas-tour-of-homes/
METHOD:PUBLISH
END:VEVENT
END:VCALENDAR