BEGIN:VCALENDAR
VERSION:2.0
PRODID:spatie/icalendar-generator
DESCRIPTION:Events from Hwy 331 Walton County USA
X-WR-CALDESC:Events from Hwy 331 Walton County USA
REFRESH-INTERVAL;VALUE=DURATION:PT1440M
X-PUBLISHED-TTL:PT1440M
BEGIN:VTIMEZONE
TZID:Etc/GMT+0
BEGIN:STANDARD
DTSTART:20240813T180000Z
TZOFFSETFROM:+0000
TZOFFSETTO:+0000
END:STANDARD
END:VTIMEZONE
BEGIN:VTIMEZONE
TZID:UTC
BEGIN:STANDARD
DTSTART:20250724T101507Z
TZOFFSETFROM:+0000
TZOFFSETTO:+0000
END:STANDARD
END:VTIMEZONE
BEGIN:VEVENT
UID:710-539
DTSTAMP:20260420T101507Z
SUMMARY:Last Stop Live Music
LOCATION:Last Stop Brew Vault 630 Baldwin Avenue  DeFuniak Springs  Florida
   32459
ORGANIZER;CN=Kerri Parker:MAILTO:info@hwy331.com
DTSTART;TZID=Etc/GMT+0:20250510T180000
DTEND;TZID=Etc/GMT+0:20250510T210000
X-ALT-DESC;FMTTYPE=TEXT/HTML:Jake &amp;amp\; Aimee\, Saturday\, May 10 Neal Kel
 ly\, Saturday\, May 17 Josh Davis\, Saturday\, May 24 Wiley Morris + Sammy
  J\, Saturday\, May 31
CATEGORIES:General
URL;VALUE=URI:https://hwy331.com/mc-events/last-stop-live-music/
METHOD:PUBLISH
END:VEVENT
END:VCALENDAR