BEGIN:VCALENDAR
VERSION:2.0
PRODID:spatie/icalendar-generator
DESCRIPTION:Events from Hwy 331 Walton County USA
X-WR-CALDESC:Events from Hwy 331 Walton County USA
REFRESH-INTERVAL;VALUE=DURATION:PT1440M
X-PUBLISHED-TTL:PT1440M
BEGIN:VTIMEZONE
TZID:Etc/GMT+0
BEGIN:STANDARD
DTSTART:20250112T190000Z
TZOFFSETFROM:+0000
TZOFFSETTO:+0000
END:STANDARD
END:VTIMEZONE
BEGIN:VTIMEZONE
TZID:UTC
BEGIN:STANDARD
DTSTART:20250724T100255Z
TZOFFSETFROM:+0000
TZOFFSETTO:+0000
END:STANDARD
END:VTIMEZONE
BEGIN:VEVENT
UID:895-712
DTSTAMP:20260420T100255Z
SUMMARY:Beautiful: Carole King Musical
LOCATION:Emerald Coast Theatre Company 560 Grand Blvd  Miramar Beach   3255
 0
ORGANIZER;CN=Kerri Parker:MAILTO:info@hwy331.com
DTSTART;TZID=Etc/GMT+0:20251009T190000
DTEND;TZID=Etc/GMT+0:20251009T210000
X-ALT-DESC;FMTTYPE=TEXT/HTML:As the opener to our 13th Season\, get ready t
 o be swept away by the inspiring true story behind the music you know and 
 love! Join us at ECTC in Grand Boulevard for an unforgettable performance 
 celebrating Carole King’s journey from teenage songwriter to chart-toppi
 ng music legend. From her groundbreaking partnership with Gerry Goffin to&amp;
 hellip\;
CATEGORIES:General
URL;VALUE=URI:https://hwy331.com/mc-events/beautiful-carole-king-musical-10
 /
METHOD:PUBLISH
END:VEVENT
END:VCALENDAR