BEGIN:VCALENDAR
VERSION:2.0
PRODID:spatie/icalendar-generator
DESCRIPTION:Events from Hwy 331 Walton County USA
X-WR-CALDESC:Events from Hwy 331 Walton County USA
REFRESH-INTERVAL;VALUE=DURATION:PT1440M
X-PUBLISHED-TTL:PT1440M
BEGIN:VTIMEZONE
TZID:Etc/GMT+0
BEGIN:STANDARD
DTSTART:20250107T080000Z
TZOFFSETFROM:+0000
TZOFFSETTO:+0000
END:STANDARD
END:VTIMEZONE
BEGIN:VTIMEZONE
TZID:UTC
BEGIN:STANDARD
DTSTART:20250729T171026Z
TZOFFSETFROM:+0000
TZOFFSETTO:+0000
END:STANDARD
END:VTIMEZONE
BEGIN:VEVENT
UID:934-739
DTSTAMP:20260425T171026Z
SUMMARY:You pick Persimmons &amp;amp\; Pumpkin Patch
LOCATION:Frost Lane Farms 419 Frost Lane  Laurel Hill Florida 32567
ORGANIZER;CN=Kerri Parker:MAILTO:info@hwy331.com
DTSTART;TZID=Etc/GMT+0:20251004T080000
DTEND;TZID=Etc/GMT+0:20251004T180000
X-ALT-DESC;FMTTYPE=TEXT/HTML:Join us at Frost Lane Farms for our Fuyu &amp;amp\
 ; Jiro Persimmon U-Pick! With 15 acres dedicated to persimmons\, we proudl
 y boast the largest orchard of its kind in Florida. This year\, our trees 
 are bursting with fruit! Known by various names—Asian Persimmons\, Japan
 ese Persimmons\, and Apple Persimmons—these treats are not to be confuse
 d with&amp;hellip\;
CATEGORIES:General
URL;VALUE=URI:https://hwy331.com/mc-events/you-pick-persimmons-pumpkin-patc
 h/
METHOD:PUBLISH
END:VEVENT
END:VCALENDAR